BEGIN:VCALENDAR
VERSION:2.0
PRODID:-//Die Dr. med. Blanka-Methode - ECPv6.5.1.4//NONSGML v1.0//EN
CALSCALE:GREGORIAN
METHOD:PUBLISH
X-WR-CALNAME:Die Dr. med. Blanka-Methode
X-ORIGINAL-URL:https://www.diabeteswende.com
X-WR-CALDESC:Veranstaltungen für Die Dr. med. Blanka-Methode
REFRESH-INTERVAL;VALUE=DURATION:PT1H
X-Robots-Tag:noindex
X-PUBLISHED-TTL:PT1H
BEGIN:VTIMEZONE
TZID:UTC
BEGIN:STANDARD
TZOFFSETFROM:+0000
TZOFFSETTO:+0000
TZNAME:UTC
DTSTART:20190101T000000
END:STANDARD
END:VTIMEZONE
BEGIN:VEVENT
DTSTART;TZID=UTC:20190611T100000
DTEND;TZID=UTC:20210326T150000
DTSTAMP:20260424T181136
CREATED:20190411T022758Z
LAST-MODIFIED:20190411T022758Z
UID:339-1560247200-1616770800@www.diabeteswende.com
SUMMARY:Digital maturity pace with the value chain
DESCRIPTION:As an industry\, we’ve been talking about the amazing benefits of continuous delivery for ages. But not everyone is doing it. As enabling as it is\, it’s hard to do because it touches so many different parts of both our software pipeline and our organisation. It has to pervade every part of the process\, from the users all the way back to the designers. Leverage agile frameworks to provide a robust synopsis for high level overviews. Iterative approaches to corporate strategy foster collaborative thinking to further the overall value proposition. Organically grow the holistic world view of disruptive innovation via workplace diversity and empowerment.
URL:https://www.diabeteswende.com/event/digital-maturity-pace-with-the-value-chain/
LOCATION:Los Vegas\,USA\, 649 W 249th St\, Bronx\, NY 10471\, USA\, Newyork\, NY\, 10471\, United States
CATEGORIES:Conference
ATTACH;FMTTYPE=image/jpeg:https://www.diabeteswende.com/wp-content/uploads/2019/04/blog-image-6.jpg
END:VEVENT
END:VCALENDAR